Workbook
Name 계약기간: 참고!$C$2:$C$5
Name 교과명: 참고!$A$2:$A$20
Name 구분: 참고!$I$2:$I$7
Name 국어: 참고!$B$2:$C$2
Name 수학: 참고!$B$3:$C$3
Name 어학: 참고!$L$2:$L$7
Name 영어: 참고!$B$4:$C$4
Name 지역: 참고!$G$2:$G$18
Name 컴퓨터: 참고!$K$2:$K$6
Name 학년: 참고!$E$2:$E$8

Sheet 지원서
B1: 색 셀만 입력 | C1: ※ 파일 전송하여 제출 | F1: 제출기한 : | G1: 공고문 참고 | I1: 제출처 : | K1: dbrudm2m@sen.go.kr
A2: ※ 아래의 기재사항이 사실과 다를 경우, 임용과 관련하여 불이익이 있을 수 있음
A3: ※ 서식을 변경하거나, 지정된 양식에 맞지 않게 제출할 경우, 불이익이 있을 수 있으니 유의하시기 바람
A4: 기간제교사 및 시간강사 지원서
A5: 사 진 | B5: 사진파일 첨부 | C5: 지원 과목 | G5: 지원 분야 | I5: 기간제교사 | K5: 계약 구분 | L5: 기간 무관 중복 지원
C6: 인 적 사 항 | D6: 성명 | G6: 생년월일 | K6: 성별
D7: 현주소 | E7: 자택
E8: Email
D9: 본인 휴대폰 | I9: 가족 전화
A11: 학 력 사 항 | B11: 출신 학교 (학교명 입력은 선택) | D11: 전공 | F11: 재학 기간 | K11: 비고
F12: 시작 | G12: ~ | H12: 종료 | I12: 학위
B13: 고등학교 | G13: ~
B14: 대학교 | G14: ~
B15: 대학원 | G15: ~
G16: ~
A18: 경 력 사 항 | B18: 직장명 (학교우선, 최근부터) | C18: 학교 급 | D18: 담당업무 | E18: 담당 | F18: 근무 기간(최근 8년 이내) | I18: 근무기간 | K18: 참고사항 (※필수입력)
D19: (계) | E19: 학년 | F19: 시작 | G19: ~ | H19: 종료 | I19: 년 | J19: 월 | K19: 지역 | L19: 구분
G20: ~
G21: ~
G22: ~
G23: ~
G24: ~
G25: ~
G26: ~
G27: ~
A29: 자 격 | B29: 구분 | C29: 과목 | E29: 종류(급수/취득 점수) | H29: 취득일자 | I29: 발급기관 | L29: 비고
B30: 교원자격증 | C30: 전공
C31: 기타
B32: 기타 자격증 | C32: 컴퓨터
C33: 어학
A35: 위 기재 사항은 사실과 틀림이 없습니다.
D36: 작성일 :
D37: 작성자 : | I37: (서명)
A39: 경기고등학교장 귀하

Sheet 수합용
A2: 인적사항 | K2: 학력사항1 | N2: 학력사항2 | Q2: 학력사항3 | T2: 학력사항4 | W2: 경력사항1 | AG2: 경력사항2 | AQ2: 경력사항3 | BA2: 경력사항4 | BK2: 경력사항5 | BU2: 경력사항6 | CE2: 경력사항7 | CO2: 경력사항6 | CY2: 자격증
A3: 연번 | B3: 성명 | C3: 성별 | D3: 생년월일 | E3: 교과 | F3: 지원분야 | G3: 계약기간 | H3: 연락처1 | I3: 이메일 | J3: 주소 | K3: 학교 | L3: 전공 | M3: 학위 | N3: 학교 | O3: 전공 | P3: 학위 | Q3: 학교 | R3: 전공 | S3: 학위 | T3: 학교 | U3: 전공 | V3: 학위 | W3: 직장명 | X3: 학교급 | Y3: 담당업무 | Z3: 담당학년 | AA3: 시작일 | AB3: 종료일 | AC3: 근무년 | AD3: 근무월 | AE3: 지역 | AF3: 구분 | AG3: 직장명 | AH3: 학교급 | AI3: 담당업무 | AJ3: 담당학년 | AK3: 시작일 | AL3: 종료일 | AM3: 근무년 | AN3: 근무월 | AO3: 지역 | AP3: 구분 | AQ3: 직장명 | AR3: 학교급 | AS3: 담당업무 | AT3: 담당학년 | AU3: 시작일 | AV3: 종료일 | AW3: 근무년 | AX3: 근무월 | AY3: 지역 | AZ3: 구분 | BA3: 직장명 | BB3: 학교급 | BC3: 담당업무 | BD3: 담당학년 | BE3: 시작일 | BF3: 종료일 | BG3: 근무년 | BH3: 근무월 | BI3: 지역 | BJ3: 구분 | BK3: 직장명 | BL3: 학교급 | BM3: 담당업무 | BN3: 담당학년 | BO3: 시작일 | BP3: 종료일 | BQ3: 근무년 | BR3: 근무월 | BS3: 지역 | BT3: 구분 | BU3: 직장명 | BV3: 학교급 | BW3: 담당업무 | BX3: 담당학년 | BY3: 시작일 | BZ3: 종료일 | CA3: 근무년 | CB3: 근무월 | CC3: 지역 | CD3: 구분 | CE3: 직장명 | CF3: 학교급 | CG3: 담당업무 | CH3: 담당학년 | CI3: 시작일 | CJ3: 종료일 | CK3: 근무년 | CL3: 근무월 | CM3: 지역 | CN3: 구분 | CO3: 직장명 | CP3: 학교급 | CQ3: 담당업무 | CR3: 담당학년 | CS3: 시작일 | CT3: 종료일 | CU3: 근무년 | CV3: 근무월 | CW3: 지역 | CX3: 구분 | CY3: 교원자격1 | CZ3: 교원자격급수1 | DA3: 교원자격2 | DB3: 교원자격3 | DC3: 컴퓨터 자격 | DD3: 컴퓨터 자격급수 | DE3: 어학 자격 | DF3: 어학 자격급수 | DG3: 기타 자격
A4: 1 | B4: =지원서!E6 -> 0 | C4: =지원서!L6 -> 0 | D4: =지원서!I6 -> 0 | E4: =지원서!E5 -> 0 | F4: =지원서!I5 -> 기간제교사 | G4: =지원서!L5 -> 기간 무관 중복 지원 | H4: =지원서!E9 -> 0 | I4: =지원서!F8 -> 0 | J4: =지원서!F7 -> 0 | K4: =지원서!B13 -> 고등학교 | L4: =지원서!D13 -> 0 | M4: =지원서!I13 -> 0 | N4: =지원서!B14 -> 대학교 | O4: =지원서!D14 -> 0 | P4: =지원서!I14 -> 0 | Q4: =지원서!B15 -> 대학원 | R4: =지원서!D15 -> 0 | S4: =지원서!I15 -> 0 | T4: =지원서!B16 -> 0 | U4: =지원서!D16 -> 0 | V4: =지원서!I16 -> 0 | W4: =지원서!B20 -> 0 | X4: =지원서!C20 -> 0 | Y4: =지원서!D20 -> 0 | Z4: =지원서!E20 -> 0 | AA4: =지원서!F20 -> 0 | AB4: =지원서!H20 -> 0 | AC4: =지원서!I20 -> 0 | AD4: =지원서!J20 -> 0 | AE4: =지원서!K20 -> 0 | AF4: =지원서!L20 -> 0 | AG4: =지원서!B21 -> 0 | AH4: =지원서!C21 -> 0 | AI4: =지원서!D21 -> 0 | AJ4: =지원서!E21 -> 0 | AK4: =지원서!F21 -> 0 | AL4: =지원서!H21 -> 0 | AM4: =지원서!I21 -> 0 | AN4: =지원서!J21 -> 0 | AO4: =지원서!K21 -> 0 | AP4: =지원서!L21 -> 0 | AQ4: =지원서!B22 -> 0 | AR4: =지원서!C22 -> 0 | AS4: =지원서!D22 -> 0 | AT4: =지원서!E22 -> 0 | AU4: =지원서!F22 -> 0 | AV4: =지원서!H22 -> 0 | AW4: =지원서!I22 -> 0 | AX4: =지원서!J22 -> 0 | AY4: =지원서!K22 -> 0 | AZ4: =지원서!L22 -> 0 | BA4: =지원서!B23 -> 0 | BB4: =지원서!C23 -> 0 | BC4: =지원서!D23 -> 0 | BD4: =지원서!E23 -> 0 | BE4: =지원서!F23 -> 0 | BF4: =지원서!H23 -> 0 | BG4: =지원서!I23 -> 0 | BH4: =지원서!J23 -> 0 | BI4: =지원서!K23 -> 0 | BJ4: =지원서!L23 -> 0 | BK4: =지원서!B24 -> 0 | BL4: =지원서!C24 -> 0 | BM4: =지원서!D24 -> 0 | BN4: =지원서!E24 -> 0 | BO4: =지원서!F24 -> 0 | BP4: =지원서!H24 -> 0 | BQ4: =지원서!I24 -> 0 | BR4: =지원서!J24 -> 0 | BS4: =지원서!K24 -> 0 | BT4: =지원서!L24 -> 0 | BU4: =지원서!B26 -> 0 | BV4: =지원서!C26 -> 0 | BW4: =지원서!D26 -> 0 | BX4: =지원서!E26 -> 0 | BY4: =지원서!F26 -> 0 | BZ4: =지원서!H26 -> 0 | CA4: =지원서!I26 -> 0 | CB4: =지원서!J26 -> 0 | CC4: =지원서!K26 -> 0 | CD4: =지원서!L26 -> 0 | CE4: =지원서!B27 -> 0 | CF4: =지원서!C27 -> 0 | CG4: =지원서!D27 -> 0 | CH4: =지원서!E27 -> 0 | CI4: =지원서!F27 -> 0 | CJ4: =지원서!H27 -> 0 | CK4: =지원서!I27 -> 0 | CL4: =지원서!J27 -> 0 | CM4: =지원서!K27 -> 0 | CN4: =지원서!L27 -> 0 | CO4: =지원서!B28 -> 0 | CP4: =지원서!C28 -> 0 | CQ4: =지원서!D28 -> 0 | CR4: =지원서!E28 -> 0 | CS4: =지원서!F28 -> 0 | CT4: =지원서!H28 -> 0 | CU4: =지원서!I28 -> 0 | CV4: =지원서!J28 -> 0 | CW4: =지원서!K28 -> 0 | CX4: =지원서!L28 -> 0 | CY4: =지원서!D30 -> 0 | CZ4: =지원서!E30 -> 0 | DA4: =지원서!D31 -> 0 | DB4: =지원서!E31 -> 0 | DC4: =지원서!D32 -> 0 | DD4: =지원서!E32 -> 0 | DE4: =지원서!D33 -> 0 | DF4: =지원서!E33 -> 0 | DG4: =지원서!E34 -> 0

Sheet Sheet1
B2: [경기고 면접
B3: <서류 평가>
B4: 양식 맞춤-엑셀 활용 능력 테스트.
B5: 서식 안내에 맞춘 사람을 면접 대상으로
B7: 1. 업무에 대한 설명, 어려웠던 점
B8: 2. 수업 실연 - 내용만 5분
B9: 3. 교과 질문
B10: 4. 담임 업무 학폭 발생시 대처 방법
B11: 5. 업무 지정 질문

Sheet 참고
A1: 교과명 | C1: 계약기간 | E1: 학년 | G1: 지역 | I1: 구분 | K1: 컴퓨터 | L1: 어학
A2: 국어 | C2: 1년만 지원 | E2: 1 | G2: 서울 | I2: 일반고(특목,자사,자공 포함) | K2: 엑셀 | L2: 영어
A3: 수학 | C3: 1년 미만 지원 | E3: 2 | G3: 경기 | I3: 특성화고 | K3: ᄒᆞᆫ글 | L3: 일본어
A4: 영어 | C4: 기간 무관 중복 지원 | E4: 3 | G4: 인천 | I4: 중학교 | K4: 파워포인트 | L4: 중국어
A5: 역사 | C5: 시간강사 지원 | E5: 1,2 | G5: 강원 | I5: 초등학교 | K5: 기타 | L5: 프랑스어
A6: 도덕·윤리 | E6: 1,3 | G6: 대전 | I6: 기타(대안학교,학원 등) | L6: 기타
A7: 일반사회 | E7: 2,3 | G7: 세종
A8: 지리 | E8: 1,2,3 | G8: 충남
A9: 물리 | G9: 충북
A10: 화학 | G10: 광주
A11: 생물 | G11: 전남
A12: 지구과학 | G12: 전북
A13: 체육 | G13: 부산
A14: 음악 | G14: 대구
A15: 미술 | G15: 울산
A16: 독일어 | G16: 경남
A17: 중국어 | G17: 경북
A18: 프랑스어 | G18: 제주
A19: 정보·컴퓨터
A20: 보건
